BEGIN:VCALENDAR
VERSION:2.0
PRODID:-//Antje Seeber - ECPv6.15.13//NONSGML v1.0//EN
CALSCALE:GREGORIAN
METHOD:PUBLISH
X-WR-CALNAME:Antje Seeber
X-ORIGINAL-URL:https://www.antjeseeber.com/de/
X-WR-CALDESC:Veranstaltungen für Antje Seeber
REFRESH-INTERVAL;VALUE=DURATION:PT1H
X-Robots-Tag:noindex
X-PUBLISHED-TTL:PT1H
BEGIN:VTIMEZONE
TZID:Europe/Lisbon
BEGIN:DAYLIGHT
TZOFFSETFROM:+0000
TZOFFSETTO:+0100
TZNAME:WEST
DTSTART:20250330T010000
END:DAYLIGHT
BEGIN:STANDARD
TZOFFSETFROM:+0100
TZOFFSETTO:+0000
TZNAME:WET
DTSTART:20251026T010000
END:STANDARD
BEGIN:DAYLIGHT
TZOFFSETFROM:+0000
TZOFFSETTO:+0100
TZNAME:WEST
DTSTART:20260329T010000
END:DAYLIGHT
BEGIN:STANDARD
TZOFFSETFROM:+0100
TZOFFSETTO:+0000
TZNAME:WET
DTSTART:20261025T010000
END:STANDARD
BEGIN:DAYLIGHT
TZOFFSETFROM:+0000
TZOFFSETTO:+0100
TZNAME:WEST
DTSTART:20270328T010000
END:DAYLIGHT
BEGIN:STANDARD
TZOFFSETFROM:+0100
TZOFFSETTO:+0000
TZNAME:WET
DTSTART:20271031T010000
END:STANDARD
END:VTIMEZONE
BEGIN:VEVENT
DTSTART;TZID=Europe/Lisbon:20260517T000000
DTEND;TZID=Europe/Lisbon:20260524T235959
DTSTAMP:20260420T192707
CREATED:20251211T114019Z
LAST-MODIFIED:20251211T120150Z
UID:6826-1778976000-1779667199@www.antjeseeber.com
SUMMARY:17-24 Mai 2026 - Pferdegestütztes Erfahrungslernen und PaintFlow
DESCRIPTION:
URL:https://www.antjeseeber.com/de/event/17-24-mai-2026-pferdegestuetztes-erfahrungslernen-und-paintflow-2/
END:VEVENT
BEGIN:VEVENT
DTSTART;TZID=Europe/Lisbon:20260530T000000
DTEND;TZID=Europe/Lisbon:20260606T235959
DTSTAMP:20260420T192707
CREATED:20250609T121838Z
LAST-MODIFIED:20250805T115335Z
UID:6385-1780099200-1780790399@www.antjeseeber.com
SUMMARY:Pferdegestütztes Erfahrungslernen & Emotionscoaching & Urlaub in Portugal
DESCRIPTION:Begegne den Pferden und lass dir von ihnen zeigen\, wie du dich mit deinem authentischen Kern verbinden kannst und ihn als deine persönliche Quelle des Wissens erfährst. \n\n\n\nDie intensive Begegnung mit deinen Pferden lässt dich entdecken wie du eingefahrene Denkmuster durchbrechen kannst\, Visionen wahrnimmst und sie schenken dir Mut neue Schritte zu wagen und deinem inneren Ruf zu folgen. \n\n\n\nWir freuen uns auf dich!
URL:https://www.antjeseeber.com/de/event/pferdegestuetztes-erfahrungslernen-emotionscoaching-urlaub-in-portugal-30-mai-2026/
ATTACH;FMTTYPE=image/jpeg:https://www.antjeseeber.com/wp-content/uploads/WhatsApp-Bild-2025-06-09-um-13.39.37_d4a16c3e.jpg
END:VEVENT
BEGIN:VEVENT
DTSTART;TZID=Europe/Lisbon:20260530T000000
DTEND;TZID=Europe/Lisbon:20260606T235959
DTSTAMP:20260420T192707
CREATED:20251211T114200Z
LAST-MODIFIED:20251211T132920Z
UID:6828-1780099200-1780790399@www.antjeseeber.com
SUMMARY:30. Mai - 6. Juni 2026 - Pferdegestütztes Erfahrungslernen und Stärken-Coaching
DESCRIPTION:Pferdegestütztes Erfahrungslernen (Antje Seeber) und Stärkencoaching (Nicole Steckel)
URL:https://www.antjeseeber.com/de/event/30-mai-6-juni-2026-pferdegestuetztes-erfahrungslernen-und-staerken-coaching/
END:VEVENT
BEGIN:VEVENT
DTSTART;TZID=Europe/Lisbon:20260530T080000
DTEND;TZID=Europe/Lisbon:20260606T170000
DTSTAMP:20260420T192707
CREATED:20250909T112515Z
LAST-MODIFIED:20251211T122320Z
UID:6662-1780128000-1780765200@www.antjeseeber.com
SUMMARY:Retreat in Portugal 30.05-06.06.2026
DESCRIPTION:
URL:https://www.antjeseeber.com/de/event/retreat-in-portugal-30-05-06-06-2026/
ATTACH;FMTTYPE=image/jpeg:https://www.antjeseeber.com/wp-content/uploads/WhatsApp-Image-2025-09-05-at-07.48.37.jpeg
END:VEVENT
BEGIN:VEVENT
DTSTART;TZID=Europe/Lisbon:20260606T000000
DTEND;TZID=Europe/Lisbon:20260613T235959
DTSTAMP:20260420T192707
CREATED:20251211T114255Z
LAST-MODIFIED:20251211T120707Z
UID:6844-1780704000-1781395199@www.antjeseeber.com
SUMMARY:6-13 Juni 2026 - Pferdegestütztes Erfahrungslernen (Antje Seeber)
DESCRIPTION:
URL:https://www.antjeseeber.com/de/event/6-13-juni-2026-pferdegestuetztes-erfahrungslernen-antje-seeber/
END:VEVENT
BEGIN:VEVENT
DTSTART;TZID=Europe/Lisbon:20260616T000000
DTEND;TZID=Europe/Lisbon:20260623T235959
DTSTAMP:20260420T192707
CREATED:20251211T114531Z
LAST-MODIFIED:20251211T120719Z
UID:6846-1781568000-1782259199@www.antjeseeber.com
SUMMARY:16-23 Juni 2026 - Pferdegestütztes Erfahrungslernen (Antje Seeber) und Schmerzfreies Training nach Liebscher & Bracht (Ramona Franke)
DESCRIPTION:
URL:https://www.antjeseeber.com/de/event/16-23-juni-2026-pferdegestuetztes-erfahrungslernen-antje-seeber-und-schmerzfreies-training-nach-liebscher-bracht-ramona-franke/
END:VEVENT
BEGIN:VEVENT
DTSTART;TZID=Europe/Lisbon:20260711T000000
DTEND;TZID=Europe/Lisbon:20260718T235959
DTSTAMP:20260420T192707
CREATED:20251211T115006Z
LAST-MODIFIED:20251211T120703Z
UID:6842-1783728000-1784419199@www.antjeseeber.com
SUMMARY:11-18 Juli 2026 - Pferdegestütztes Erfahrungslernen und Sonne\, Strand & Meer (Antje Seeber)
DESCRIPTION:
URL:https://www.antjeseeber.com/de/event/11-18-juli-2026-pferdegestuetztes-erfahrungslernen-und-sonne-strand-meer-antje-seeber/
END:VEVENT
BEGIN:VEVENT
DTSTART;TZID=Europe/Lisbon:20260910T000000
DTEND;TZID=Europe/Lisbon:20260917T235959
DTSTAMP:20260420T192707
CREATED:20251211T114630Z
LAST-MODIFIED:20251211T121213Z
UID:6814-1788998400-1789689599@www.antjeseeber.com
SUMMARY:10-17 September 2026 - Verkörperung des Pferdes und afrikanischer Tanz (Antje Seeber) & Trommeln (Jacqui Dreesens)
DESCRIPTION:
URL:https://www.antjeseeber.com/de/event/10-17-september-2026-verkoerperung-des-pferdes-pferdegestuetztes-erfahrungslernen-und-afrikanischer-tanz-trommeln/
END:VEVENT
BEGIN:VEVENT
DTSTART;TZID=Europe/Lisbon:20260920T000000
DTEND;TZID=Europe/Lisbon:20260927T235959
DTSTAMP:20260420T192707
CREATED:20251211T114734Z
LAST-MODIFIED:20251211T120346Z
UID:6830-1789862400-1790553599@www.antjeseeber.com
SUMMARY:20-27 September 2026 - Pferdegestütztes Erfahrungslernen und PaintFlow
DESCRIPTION:Pferdegestütztes Erfahrungslernen (Antje Seeber) und PaintFlow (Christina Ferguson)
URL:https://www.antjeseeber.com/de/event/20-27-september-2026-pferdegestuetztes-erfahrungslernen-und-paintflow/
END:VEVENT
BEGIN:VEVENT
DTSTART;TZID=Europe/Lisbon:20261010T000000
DTEND;TZID=Europe/Lisbon:20261017T235959
DTSTAMP:20260420T192707
CREATED:20251211T114846Z
LAST-MODIFIED:20251217T103743Z
UID:6824-1791590400-1792281599@www.antjeseeber.com
SUMMARY:10-17 Oktober 2026 - Pferdegestütztes Erfahrungslernen und Sonne\, Strand & Meer
DESCRIPTION:
URL:https://www.antjeseeber.com/de/event/17-24-mai-2026-pferdegestuetztes-erfahrungslernen-und-paintflow/
END:VEVENT
END:VCALENDAR